BEGIN:VCALENDAR
VERSION:2.0
PRODID:-//wp-events-plugin.com//7.2.3.1//EN
TZID:Europe/Zurich
X-WR-TIMEZONE:Europe/Zurich
BEGIN:VEVENT
UID:83@obrecht.ch
DTSTART;TZID=Europe/Zurich;VALUE=DATE:20250101
DTEND;TZID=Europe/Zurich;VALUE=DATE:20250301
DTSTAMP:20250122T075110Z
URL:https://obrecht.ch/events/winter-pause/
SUMMARY:WINTER-PAUSE
DESCRIPTION:In der Stille und Geduld des Winters liegt die Kraft für das N
 eue.
CATEGORIES:Degustationen,Dein Event,Führung
END:VEVENT
BEGIN:VTIMEZONE
TZID:Europe/Zurich
X-LIC-LOCATION:Europe/Zurich
BEGIN:STANDARD
DTSTART:20241027T020000
TZOFFSETFROM:+0200
TZOFFSETTO:+0100
TZNAME:CET
END:STANDARD
END:VTIMEZONE
END:VCALENDAR